BEGIN:VCALENDAR
PRODID:-//Ben Fortuna//iCal4j 1.0//EN
VERSION:2.0
CALSCALE:GREGORIAN
BEGIN:VTIMEZONE
TZID:Europe/Berlin
LAST-MODIFIED:20201010T011803Z
TZURL:http://tzurl.org/zoneinfo/Europe/Berlin
X-LIC-LOCATION:Europe/Berlin
X-PROLEPTIC-TZNAME:LMT
BEGIN:STANDARD
TZNAME:CET
TZOFFSETFROM:+005328
TZOFFSETTO:+0100
DTSTART:18930401T000000
END:STANDARD
BEGIN:DAYLIGHT
TZNAME:CEST
TZOFFSETFROM:+0100
TZOFFSETTO:+0200
DTSTART:19160430T230000
RDATE:19400401T020000
RDATE:19430329T020000
RDATE:19460414T020000
RDATE:19470406T030000
RDATE:19480418T020000
RDATE:19490410T020000
RDATE:19800406T020000
END:DAYLIGHT
BEGIN:STANDARD
TZNAME:CET
TZOFFSETFROM:+0200
TZOFFSETTO:+0100
DTSTART:19161001T010000
RDATE:19421102T030000
RDATE:19431004T030000
RDATE:19441002T030000
RDATE:19451118T030000
RDATE:19461007T030000
END:STANDARD
BEGIN:DAYLIGHT
TZNAME:CEST
TZOFFSETFROM:+0100
TZOFFSETTO:+0200
DTSTART:19170416T020000
RRULE:FREQ=YEARLY;UNTIL=19180415T010000Z;BYMONTH=4;BYDAY=3MO
END:DAYLIGHT
BEGIN:STANDARD
TZNAME:CET
TZOFFSETFROM:+0200
TZOFFSETTO:+0100
DTSTART:19170917T030000
RRULE:FREQ=YEARLY;UNTIL=19180916T010000Z;BYMONTH=9;BYDAY=3MO
END:STANDARD
BEGIN:DAYLIGHT
TZNAME:CEST
TZOFFSETFROM:+0100
TZOFFSETTO:+0200
DTSTART:19440403T020000
RRULE:FREQ=YEARLY;UNTIL=19450402T010000Z;BYMONTH=4;BYDAY=1MO
END:DAYLIGHT
BEGIN:DAYLIGHT
TZNAME:CEMT
TZOFFSETFROM:+0200
TZOFFSETTO:+0300
DTSTART:19450524T020000
RDATE:19470511T030000
END:DAYLIGHT
BEGIN:DAYLIGHT
TZNAME:CEST
TZOFFSETFROM:+0300
TZOFFSETTO:+0200
DTSTART:19450924T030000
RDATE:19470629T030000
END:DAYLIGHT
BEGIN:STANDARD
TZNAME:CET
TZOFFSETFROM:+0100
TZOFFSETTO:+0100
DTSTART:19460101T000000
RDATE:19800101T000000
END:STANDARD
BEGIN:STANDARD
TZNAME:CET
TZOFFSETFROM:+0200
TZOFFSETTO:+0100
DTSTART:19471005T030000
RRULE:FREQ=YEARLY;UNTIL=19491002T010000Z;BYMONTH=10;BYDAY=1SU
END:STANDARD
BEGIN:STANDARD
TZNAME:CET
TZOFFSETFROM:+0200
TZOFFSETTO:+0100
DTSTART:19800928T030000
RRULE:FREQ=YEARLY;UNTIL=19950924T010000Z;BYMONTH=9;BYDAY=-1SU
END:STANDARD
BEGIN:DAYLIGHT
TZNAME:CEST
TZOFFSETFROM:+0100
TZOFFSETTO:+0200
DTSTART:19810329T020000
RRULE:FREQ=YEARLY;BYMONTH=3;BYDAY=-1SU
END:DAYLIGHT
BEGIN:STANDARD
TZNAME:CET
TZOFFSETFROM:+0200
TZOFFSETTO:+0100
DTSTART:19961027T030000
RRULE:FREQ=YEARLY;BYMONTH=10;BYDAY=-1SU
END:STANDARD
END:VTIMEZONE
BEGIN:VEVENT
DTSTAMP:20260421T054533Z
DTSTART;TZID=Europe/Berlin:20260424T180000
DTEND;TZID=Europe/Berlin:20260427T235900
SUMMARY:Streuobstwanderung zum Tag der Streuobstwiese
CREATED:20260327T063627Z
LAST-MODIFIED:20260327T072508Z
DESCRIPTION:Kommt mit auf eine geführte Wanderung durch unsere Streuobstw
 iesen\, entdeckt mit uns so manchen Blüte und erfahrt Wissenswertes über
  unsere Streuobstwiesen. Anlässlich des Internationalen Tages der Streuo
 bstwiesen lädt der Traditionsverein ein ein kleine Runde zu Wandern.\nIm
  Anschluss besteht die Möglichkeit den Vereinseigenen Apfelwein zu verko
 sten\, ein kleines Feuer lädt zum verweilen und zu Stockbrot ein.\nTeig 
 und Stöcke werden bereitliegen - bringt gerne ein Taschenmesser zum ansp
 itzen mit und wer mag eine Taschenlampe für die Wanderung.\nAnsonsten Fe
 stes Schuhwerk und etwas Zeit - wir freuen uns auf euch
LOCATION:In der Schlinke an der Quelle
X-LOCATION-NAME:In der Schlinke an der Quelle
X-STREET-ADDRESS:Auf halber Höhe des Verbindungswegs Hainchen-Himbach / V
 erlängerung Klostergasse
X-POSTAL-CODE:63694
X-LOCALITY:Limeshain
ORGANIZER;CN=Traditionsverein Hainchen e.V.:mailto:info@tv-hainchen.de
X-ORGANIZER-NAME:Traditionsverein Hainchen e.V.
X-ORGANIZER-EMAIL:info@tv-hainchen.de
X-ORGANIZER-WEBSITE:https://www.tv-hainchen.de/
CONTACT:Chris Marvin  Wolf\,info@tv-hainchen.de
X-CONTACT-GIVEN-NAME:Chris Marvin 
X-CONTACT-FAMILY-NAME:Wolf
X-CONTACT-EMAIL:info@tv-hainchen.de
URL:https://www.tv-hainchen.de/
X-IONAS-CATEGORY:Veranstaltung
CATEGORIES:Veranstaltung,Veranstaltung
ATTACH;FMTTYPE=image/png:https://www.limeshain.de/kalender/2026-04-24-str
 euobstwanderung-zum-tag-der-streuobstwiese/streuobstwanderung-2026.png?c
 id=52y.13k7
UID:37338c5a-6c89-4aa1-bc8e-5fab29a31a9f
END:VEVENT
END:VCALENDAR
