BEGIN:VCALENDAR
PRODID:-//IONAS//TVM//DE
VERSION:2.0
CALSCALE:GREGORIAN
BEGIN:VTIMEZONE
TZID:Europe/Berlin
LAST-MODIFIED:20201010T011803Z
TZURL:http://tzurl.org/zoneinfo/Europe/Berlin
X-LIC-LOCATION:Europe/Berlin
X-PROLEPTIC-TZNAME:LMT
BEGIN:STANDARD
TZNAME:CET
TZOFFSETFROM:+005328
TZOFFSETTO:+0100
DTSTART:18930401T000000
END:STANDARD
BEGIN:DAYLIGHT
TZNAME:CEST
TZOFFSETFROM:+0100
TZOFFSETTO:+0200
DTSTART:19160430T230000
RDATE:19400401T020000
RDATE:19430329T020000
RDATE:19460414T020000
RDATE:19470406T030000
RDATE:19480418T020000
RDATE:19490410T020000
RDATE:19800406T020000
END:DAYLIGHT
BEGIN:STANDARD
TZNAME:CET
TZOFFSETFROM:+0200
TZOFFSETTO:+0100
DTSTART:19161001T010000
RDATE:19421102T030000
RDATE:19431004T030000
RDATE:19441002T030000
RDATE:19451118T030000
RDATE:19461007T030000
END:STANDARD
BEGIN:DAYLIGHT
TZNAME:CEST
TZOFFSETFROM:+0100
TZOFFSETTO:+0200
DTSTART:19170416T020000
RRULE:FREQ=YEARLY;UNTIL=19180415T010000Z;BYMONTH=4;BYDAY=3MO
END:DAYLIGHT
BEGIN:STANDARD
TZNAME:CET
TZOFFSETFROM:+0200
TZOFFSETTO:+0100
DTSTART:19170917T030000
RRULE:FREQ=YEARLY;UNTIL=19180916T010000Z;BYMONTH=9;BYDAY=3MO
END:STANDARD
BEGIN:DAYLIGHT
TZNAME:CEST
TZOFFSETFROM:+0100
TZOFFSETTO:+0200
DTSTART:19440403T020000
RRULE:FREQ=YEARLY;UNTIL=19450402T010000Z;BYMONTH=4;BYDAY=1MO
END:DAYLIGHT
BEGIN:DAYLIGHT
TZNAME:CEMT
TZOFFSETFROM:+0200
TZOFFSETTO:+0300
DTSTART:19450524T020000
RDATE:19470511T030000
END:DAYLIGHT
BEGIN:DAYLIGHT
TZNAME:CEST
TZOFFSETFROM:+0300
TZOFFSETTO:+0200
DTSTART:19450924T030000
RDATE:19470629T030000
END:DAYLIGHT
BEGIN:STANDARD
TZNAME:CET
TZOFFSETFROM:+0100
TZOFFSETTO:+0100
DTSTART:19460101T000000
RDATE:19800101T000000
END:STANDARD
BEGIN:STANDARD
TZNAME:CET
TZOFFSETFROM:+0200
TZOFFSETTO:+0100
DTSTART:19471005T030000
RRULE:FREQ=YEARLY;UNTIL=19491002T010000Z;BYMONTH=10;BYDAY=1SU
END:STANDARD
BEGIN:STANDARD
TZNAME:CET
TZOFFSETFROM:+0200
TZOFFSETTO:+0100
DTSTART:19800928T030000
RRULE:FREQ=YEARLY;UNTIL=19950924T010000Z;BYMONTH=9;BYDAY=-1SU
END:STANDARD
BEGIN:DAYLIGHT
TZNAME:CEST
TZOFFSETFROM:+0100
TZOFFSETTO:+0200
DTSTART:19810329T020000
RRULE:FREQ=YEARLY;BYMONTH=3;BYDAY=-1SU
END:DAYLIGHT
BEGIN:STANDARD
TZNAME:CET
TZOFFSETFROM:+0200
TZOFFSETTO:+0100
DTSTART:19961027T030000
RRULE:FREQ=YEARLY;BYMONTH=10;BYDAY=-1SU
END:STANDARD
END:VTIMEZONE
BEGIN:VEVENT
DTSTAMP:20260421T041713Z
DTSTART;TZID=Europe/Berlin:20260426T110000
DTEND;TZID=Europe/Berlin:20260426T160000
SUMMARY:Römerfest in Limeshain – Beginn der Regionalpark Zeitreise
CREATED:20260317T120135Z
LAST-MODIFIED:20260317T120135Z
DESCRIPTION:Mit einem Römerfest am rekonstruierten Limes-Wachtturm starte
 t der Regionalpark RheinMain offiziell das Projekt „Zeitreise“ entlang d
 er Regionalpark Limesroute. Besucherinnen und Besucher erwartet ein lebe
 ndiger Auftakt mit römischem Flair\, kulinarischen Einblicken und Mitmac
 hangeboten.\n\nGermanendarsteller geben anschauliche Einblicke in Alltag
  und Ernährung vergangener Zeiten. Kinder können zudem echte Tierfelle b
 estimmen und die Herstellung von römischem Spielzeug aus Ton miterleben.
  Für die passende Atmosphäre sorgt ein Cornubläser der mit seinem Cornu 
 – einem römischen Blasinstrument – spielt.\n\nDas Besondere am Zeitreise
 -Projekt ist der Einsatz von Augmented Reality. An drei Stationen – am r
 ekonstruierten Wachtturm in Limeshain\, an den Überresten des Römerbads 
 in Erlensee-Rückingen sowie am Main in Großkrotzenburg – können Besucher
 innen und Besucher mithilfe ihres Smartphones oder Tablets digital in di
 e Römerzeit eintauchen. Virtuelle Rekonstruktionen lassen historische Ba
 uwerke wieder auferstehen und vermitteln anschaulich\, wie das Leben am 
 Limes seinerzeit ausgesehen hat. Bei der Eröffnung in Limeshain können a
 lle drei Stationen vor Ort ausprobiert werden.\n\nInteraktive Aufgaben\,
  sogenannte Quests\, führen spielerisch durch die Geschichte und vermitt
 eln historisches Wissen auf unterhaltsame Weise. Zum Abschluss der Zeitr
 eise bietet sich die Möglichkeit\, ein Selfie mit einem römischen Helm a
 ufzunehmen – als persönliche Erinnerung an die Reise in die Vergangenhei
 t.
LOCATION:Limes-Wachtturm
X-LOCATION-NAME:Limes-Wachtturm
X-ORGANIZER-NAME:Gemeinde Limeshain und Regionalpark RheinMain
CONTACT:Stine Kockrick\,Stine.Kockrick@Limeshain.de\,0172-2800284
X-CONTACT-GIVEN-NAME:Stine
X-CONTACT-FAMILY-NAME:Kockrick
X-CONTACT-EMAIL:Stine.Kockrick@Limeshain.de
X-CONTACT-TELEPHONE:0172-2800284
X-IONAS-CATEGORY:Veranstaltung
CATEGORIES:Veranstaltung,Kultur
ATTACH:https://www.limeshain.de/kalender/2026-04-26-roemerfest-in-limesha
 in-beginn-der-regionalpark-zeitreise/einladung-roemerfest.pdf?cid=52t
UID:0afaaf34-143e-434d-ad6e-54cd9ff1a312:2026-04-26
X-PRICE:Keine Angabe
END:VEVENT
END:VCALENDAR
