BEGIN:VCALENDAR
PRODID:-//IONAS//TVM//DE
VERSION:2.0
CALSCALE:GREGORIAN
BEGIN:VTIMEZONE
TZID:Europe/Berlin
LAST-MODIFIED:20201010T011803Z
TZURL:http://tzurl.org/zoneinfo/Europe/Berlin
X-LIC-LOCATION:Europe/Berlin
X-PROLEPTIC-TZNAME:LMT
BEGIN:STANDARD
TZNAME:CET
TZOFFSETFROM:+005328
TZOFFSETTO:+0100
DTSTART:18930401T000000
END:STANDARD
BEGIN:DAYLIGHT
TZNAME:CEST
TZOFFSETFROM:+0100
TZOFFSETTO:+0200
DTSTART:19160430T230000
RDATE:19400401T020000
RDATE:19430329T020000
RDATE:19460414T020000
RDATE:19470406T030000
RDATE:19480418T020000
RDATE:19490410T020000
RDATE:19800406T020000
END:DAYLIGHT
BEGIN:STANDARD
TZNAME:CET
TZOFFSETFROM:+0200
TZOFFSETTO:+0100
DTSTART:19161001T010000
RDATE:19421102T030000
RDATE:19431004T030000
RDATE:19441002T030000
RDATE:19451118T030000
RDATE:19461007T030000
END:STANDARD
BEGIN:DAYLIGHT
TZNAME:CEST
TZOFFSETFROM:+0100
TZOFFSETTO:+0200
DTSTART:19170416T020000
RRULE:FREQ=YEARLY;UNTIL=19180415T010000Z;BYMONTH=4;BYDAY=3MO
END:DAYLIGHT
BEGIN:STANDARD
TZNAME:CET
TZOFFSETFROM:+0200
TZOFFSETTO:+0100
DTSTART:19170917T030000
RRULE:FREQ=YEARLY;UNTIL=19180916T010000Z;BYMONTH=9;BYDAY=3MO
END:STANDARD
BEGIN:DAYLIGHT
TZNAME:CEST
TZOFFSETFROM:+0100
TZOFFSETTO:+0200
DTSTART:19440403T020000
RRULE:FREQ=YEARLY;UNTIL=19450402T010000Z;BYMONTH=4;BYDAY=1MO
END:DAYLIGHT
BEGIN:DAYLIGHT
TZNAME:CEMT
TZOFFSETFROM:+0200
TZOFFSETTO:+0300
DTSTART:19450524T020000
RDATE:19470511T030000
END:DAYLIGHT
BEGIN:DAYLIGHT
TZNAME:CEST
TZOFFSETFROM:+0300
TZOFFSETTO:+0200
DTSTART:19450924T030000
RDATE:19470629T030000
END:DAYLIGHT
BEGIN:STANDARD
TZNAME:CET
TZOFFSETFROM:+0100
TZOFFSETTO:+0100
DTSTART:19460101T000000
RDATE:19800101T000000
END:STANDARD
BEGIN:STANDARD
TZNAME:CET
TZOFFSETFROM:+0200
TZOFFSETTO:+0100
DTSTART:19471005T030000
RRULE:FREQ=YEARLY;UNTIL=19491002T010000Z;BYMONTH=10;BYDAY=1SU
END:STANDARD
BEGIN:STANDARD
TZNAME:CET
TZOFFSETFROM:+0200
TZOFFSETTO:+0100
DTSTART:19800928T030000
RRULE:FREQ=YEARLY;UNTIL=19950924T010000Z;BYMONTH=9;BYDAY=-1SU
END:STANDARD
BEGIN:DAYLIGHT
TZNAME:CEST
TZOFFSETFROM:+0100
TZOFFSETTO:+0200
DTSTART:19810329T020000
RRULE:FREQ=YEARLY;BYMONTH=3;BYDAY=-1SU
END:DAYLIGHT
BEGIN:STANDARD
TZNAME:CET
TZOFFSETFROM:+0200
TZOFFSETTO:+0100
DTSTART:19961027T030000
RRULE:FREQ=YEARLY;BYMONTH=10;BYDAY=-1SU
END:STANDARD
END:VTIMEZONE
BEGIN:VEVENT
DTSTAMP:20260421T173722Z
DTSTART;TZID=Europe/Berlin:20260514T100000
DTEND;TZID=Europe/Berlin:20260514T190000
SUMMARY:Vatertagsfest
CREATED:20260414T195630Z
LAST-MODIFIED:20260415T072847Z
DESCRIPTION:Der Förderverein Freiwillige Feuerwehr Limeshain e.V. lädt am
  14. Mai zu seinem traditionellen Vatertagsfest ein. Am Dorfgemeinschaft
 shaus Rommelhausen gibt es Leckeres vom Grill und kühle Getränke. Nach d
 em Mittag warten ein Kaffee- und Kuchenbuffet sowie frisch gebackene Waf
 feln auf die Gäste. Nachmittags spielen die Musikfreunde Limeshain und s
 orgen mit Livemusik für gute Stimmung. Zudem wird das Tanklöschfahrzeug 
 der Freiwilligen Feuerwehr ausgestellt. Hier können sich interessierte G
 äste über die Arbeit der Freiwilligen Feuerwehr informieren.
LOCATION:Dorfgemeinschaftshaus Rommelhausen
X-LOCATION-NAME:Dorfgemeinschaftshaus Rommelhausen
X-STREET-ADDRESS:Schulstraße 5
X-POSTAL-CODE:63694
X-LOCALITY:Limeshain
ORGANIZER;CN="Förderverein Freiwillige Feuerwehr Limeshain e.V.":mailto:f
 oerderverein@feuerwehr-limeshain.de
X-ORGANIZER-NAME:Förderverein Freiwillige Feuerwehr Limeshain e.V.
X-ORGANIZER-EMAIL:foerderverein@feuerwehr-limeshain.de
X-ORGANIZER-ADDRESS-POSTALCODE:63694
X-ORGANIZER-ADDRESS-LOCALITY:Limeshain
X-ORGANIZER-ADDRESS-STREET:Haydnstraße 14
X-ORGANIZER-GEO:50.258865\;8.971693
CONTACT:Daniel Brozio\,foerderverein@feuerwehr-limeshain.de
X-CONTACT-GIVEN-NAME:Daniel
X-CONTACT-FAMILY-NAME:Brozio
X-CONTACT-EMAIL:foerderverein@feuerwehr-limeshain.de
X-CONTACT-JOBTITLE:1. Vorsitzender
X-IONAS-CATEGORY:Fest
CATEGORIES:Fest,Veranstaltung
UID:b957415c-22d9-45e3-86a5-ec6e5d3f600a:2026-05-14
END:VEVENT
END:VCALENDAR
